BEGIN:VCALENDAR
VERSION:2.0
PRODID:-//eventon.com NONSGML v1.0//EN
CALSCALE:GREGORIAN
METHOD:PUBLISH
BEGIN:VEVENT
UID:69ebf52075eef
DTSTAMP:20260424T225632Z
DTSTART:20190307T080000Z
DTEND:20190307T160000Z
LOCATION:Radisson Hotel Philadelphia Northeast 2400 Old Lincoln Hwy\,  Trevose\,  PA 19053
SUMMARY:2019 CCGP Statewide East Conference
DESCRIPTION:2019 CCGP Statewide East Conference will focus on: The current 
 state of gambling in the region\,  and throughout the country\,  and the im
 pact this may have on individuals experiencing problems\,  and on those who
  may be at risk Important considerations for criminal charges that gambling
  clients may be facing Using[..]\nhttps://pacouncil.com/events/2019-sw-east
 /
URL:https://pacouncil.com/events/2019-sw-east/
END:VEVENT
END:VCALENDAR