BEGIN:VCALENDAR
VERSION:2.0
PRODID:-//eventon.com NONSGML v1.0//EN
CALSCALE:GREGORIAN
METHOD:PUBLISH
BEGIN:VEVENT
UID:69e73a9ef116b
DTSTAMP:20260421T085142Z
DTSTART:20230710T160000Z
DTEND:20230710T170000Z
LOCATION:https://us02web.zoom.us/j/3404494299
SUMMARY:Monthly BACC Meeting
DESCRIPTION:For those of you who are interested in\,  or are already pursui
 ng\,  international certification\,  please join us for the monthly BACC co
 nsultation meeting. These free meetings are held on Zoom\,  and more info r
 egarding how to attend is detailed below. As part of the process of becomin
 g internationally certified as[..]\nhttps://pacouncil.com/events/monthly-ba
 cc-meeting230710/var/event_access
URL:https://pacouncil.com/events/monthly-bacc-meeting230710/var/event_access
END:VEVENT
END:VCALENDAR