BEGIN:VCALENDAR
VERSION:2.0
PRODID:-//eventon.com NONSGML v1.0//EN
CALSCALE:GREGORIAN
METHOD:PUBLISH
BEGIN:VEVENT
UID:69ea3fc8cd4f6
DTSTAMP:20260423T155032Z
DTSTART:20240717T233000Z
DTEND:20240719T230000Z
LOCATION:
SUMMARY:National Conference on Gambling Addiction & Responsible Gambling 2024
DESCRIPTION:The National Conference on Gambling Addiction &amp; Responsible
  Gambling brings together world-class presenters to deliver powerful and in
 sightful messages about problem gambling and responsible gambling.  The 20
 24 NCPG Conference will take place in San Diego\,  CA. COMPLETE DETAILS &am
 p; REGISTRATION HERE\nhttps://pacouncil.com/events/240717ncpg/
URL:https://pacouncil.com/events/240717ncpg/
END:VEVENT
END:VCALENDAR