BEGIN:VCALENDAR
VERSION:2.0
PRODID:-//eventon.com NONSGML v1.0//EN
CALSCALE:GREGORIAN
METHOD:PUBLISH
BEGIN:VEVENT
UID:69e74f6c2f94b
DTSTAMP:20260421T102028Z
DTSTART:20260205T140000Z
DTEND:20260205T170000Z
LOCATION:
SUMMARY:Advanced Training – Treating the Family for Gambling
DESCRIPTION:The Pennsylvania Department of Drug and Alcohol Programs presen
 ts a virtual\,  advanced problem gambling training conducted by the Council
  on Compulsive Gambling of Pennsylvania Treating the Family for Gambling Th
 is advanced course will aid clinicians in working with the families of prob
 lem gamblers. Identifying at risk families\,  the impacts of[..]\nhttps://p
 acouncil.com/events/260205family/
URL:https://pacouncil.com/events/260205family/
END:VEVENT
END:VCALENDAR