BEGIN:VCALENDAR
VERSION:2.0
PRODID:-//eventon.com NONSGML v1.0//EN
CALSCALE:GREGORIAN
METHOD:PUBLISH
BEGIN:VEVENT
UID:69e5febaecfd0
DTSTAMP:20260420T102354Z
DTSTART:20260305T130000Z
DTEND:20260305T210000Z
LOCATION:Radisson Hotel Philadelphia Northeast 2400 Old Lincoln Hwy\,  Trevose\,  PA 19053
SUMMARY:2026 CCGP Statewide Conference East
DESCRIPTION:REGISTRATION FOR THIS EVENT IS CURRENTLY CLOSED &#8211; THE EVE
 NT IS AT CAPACITY. &nbsp; Conference Location: Radisson Hotel Northeast 240
 0 Old Lincoln Hwy Feasterville-Trevose\,  PA 19053 &nbsp; This FREE event w
 ill focus on &nbsp; Pennsylvania gaming regulatory updates The scope and im
 pact of online gambling in Pennsylvania Common co-morbidities that[..]\nhtt
 ps://pacouncil.com/events/2026east/
URL:https://pacouncil.com/events/2026east/
END:VEVENT
END:VCALENDAR