BEGIN:VCALENDAR
VERSION:2.0
PRODID:-//eventon.com NONSGML v1.0//EN
CALSCALE:GREGORIAN
METHOD:PUBLISH
BEGIN:VEVENT
UID:69e5ffed0aec1
DTSTAMP:20260420T102901Z
DTSTART:20260312T120000Z
DTEND:20260312T200000Z
LOCATION:DoubleTree by Hilton - Pittsburgh Cranberry 910 Sheraton Drive
SUMMARY:2026 CCGP Statewide Conference West
DESCRIPTION:&nbsp; This FREE event will focus on Pennsylvania gaming regula
 tory updates The scope of legal and illegal online gambling in Pennsylvania
  Social determinants of health related to problem gambling Risk factors amo
 ng college students and student-athletes Inclusion of problem gambling reso
 urces in case management services Available help and resources in[..]\nhttp
 s://pacouncil.com/events/2026west/
URL:https://pacouncil.com/events/2026west/
END:VEVENT
END:VCALENDAR